BEGIN:VCALENDAR
VERSION:2.0
PRODID:-//The Emmaus House - ECPv6.15.17//NONSGML v1.0//EN
CALSCALE:GREGORIAN
METHOD:PUBLISH
X-WR-CALNAME:The Emmaus House
X-ORIGINAL-URL:https://theemmaushouse.org
X-WR-CALDESC:Events for The Emmaus House
REFRESH-INTERVAL;VALUE=DURATION:PT1H
X-Robots-Tag:noindex
X-PUBLISHED-TTL:PT1H
BEGIN:VTIMEZONE
TZID:America/Chicago
BEGIN:DAYLIGHT
TZOFFSETFROM:-0600
TZOFFSETTO:-0500
TZNAME:CDT
DTSTART:20250309T080000
END:DAYLIGHT
BEGIN:STANDARD
TZOFFSETFROM:-0500
TZOFFSETTO:-0600
TZNAME:CST
DTSTART:20251102T070000
END:STANDARD
BEGIN:DAYLIGHT
TZOFFSETFROM:-0600
TZOFFSETTO:-0500
TZNAME:CDT
DTSTART:20260308T080000
END:DAYLIGHT
BEGIN:STANDARD
TZOFFSETFROM:-0500
TZOFFSETTO:-0600
TZNAME:CST
DTSTART:20261101T070000
END:STANDARD
BEGIN:DAYLIGHT
TZOFFSETFROM:-0600
TZOFFSETTO:-0500
TZNAME:CDT
DTSTART:20270314T080000
END:DAYLIGHT
BEGIN:STANDARD
TZOFFSETFROM:-0500
TZOFFSETTO:-0600
TZNAME:CST
DTSTART:20271107T070000
END:STANDARD
END:VTIMEZONE
BEGIN:VEVENT
DTSTART;TZID=America/Chicago:20260323T180000
DTEND;TZID=America/Chicago:20260323T190000
DTSTAMP:20260419T134340
CREATED:20260113T175129Z
LAST-MODIFIED:20260113T175129Z
UID:10000874-1774288800-1774292400@theemmaushouse.org
SUMMARY:Spiritual Journey Series
DESCRIPTION:During this weekly guided prayerful meditation\, we will enter more deeply into our experience as we compassionately listen and are present to all that we hold within us. \nThere is no cost to attend.
URL:https://theemmaushouse.org/event/spiritual-journey-series-2/2026-03-23/
LOCATION:The Emmaus House\, 3315 70th Street\, Urbandale\, 50322\, United States
ATTACH;FMTTYPE=image/avif:https://theemmaushouse.org/wp-content/uploads/2026/01/Woodland-Path_edited.avif
END:VEVENT
END:VCALENDAR